BEGIN:VCALENDAR
VERSION:2.0
METHOD:PUBLISH
BEGIN:VEVENT
DTSTART:20240124T130000Z
DTEND:20240126T190000Z
LOCATION:Springfield, MO 65804
TRANSP: OPAQUE
SEQUENCE:0
UID:
DTSTAMP:20260419T203144Z
SUMMARY:Oak Grove Springfield Estate Sale
DESCRIPTION:Oak Grove Springfield Estate Sale C R ESTATE SALES 
UID:1776652304
STREET-ADDRESS:See website
POSTAL-CODE:65804
LOCALITY:Springfield
REGION:ABBREV=MO
COUNTRY:ABBREV=US;ABBREV=USA:United States
URL;TYPE=Event Listing:https://estatesales.org/estate-sales/mo/springfield/65804/oak-grove-springfield-estate-sale-2271447
PRIORITY:1
CLASS:PUBLIC
SEQUENCE:0
STATUS:CONFIRMED
TRANSP:OPAQUE
END:VEVENT
END:VCALENDAR
