BEGIN:VCALENDAR
VERSION:2.0
METHOD:PUBLISH
BEGIN:VEVENT
DTSTART:20200124T170000Z
DTEND:20200124T210000Z
LOCATION:Cypress, CA 90630
TRANSP: OPAQUE
SEQUENCE:0
UID:
DTSTAMP:20260420T114000Z
SUMMARY:Stamps, Postcards, First Day Covers
DESCRIPTION:Stamps, Postcards, First Day Covers Caring Transitions Beach Cities 
UID:1776706800
STREET-ADDRESS:See website
POSTAL-CODE:90630
LOCALITY:Cypress
REGION:ABBREV=CA
COUNTRY:ABBREV=US;ABBREV=USA:United States
URL;TYPE=Event Listing:https://estatesales.org/estate-sales/ca/cypress/90630/stamps-postcards-first-day-covers-1758981
PRIORITY:1
CLASS:PUBLIC
SEQUENCE:0
STATUS:CONFIRMED
TRANSP:OPAQUE
END:VEVENT
END:VCALENDAR
