BEGIN:VCALENDAR
VERSION:2.0
METHOD:PUBLISH
BEGIN:VEVENT
DTSTART:20200124T153000Z
DTEND:20200126T200000Z
LOCATION:Phoenix, AZ 85032
TRANSP: OPAQUE
SEQUENCE:0
UID:
DTSTAMP:20260420T013522Z
SUMMARY:An Estate in Time-50% OFF SUN-Huge Phoenix Estate Sale-Incredible Vehicles, Artwork, Bronzes, Sterling & More
DESCRIPTION:An Estate in Time-50% OFF SUN-Huge Phoenix Estate Sale-Incredible Vehicles, Artwork, Bronzes, Sterling & More Estate In Time 
UID:1776670522
STREET-ADDRESS:See website
POSTAL-CODE:85032
LOCALITY:Phoenix
REGION:ABBREV=AZ
COUNTRY:ABBREV=US;ABBREV=USA:United States
URL;TYPE=Event Listing:https://estatesales.org/estate-sales/az/phoenix/85032/an-estate-in-time30-off-1757117
PRIORITY:1
CLASS:PUBLIC
SEQUENCE:0
STATUS:CONFIRMED
TRANSP:OPAQUE
END:VEVENT
END:VCALENDAR
