BEGIN:VCALENDAR
VERSION:2.0
METHOD:PUBLISH
BEGIN:VEVENT
DTSTART:20140124T160000Z
DTEND:20140125T230000Z
LOCATION:Gig Harbor, WA 98335
TRANSP: OPAQUE
SEQUENCE:0
UID:
DTSTAMP:20260424T105000Z
SUMMARY:Gig Harbor Garage/Moving Sale
DESCRIPTION:Gig Harbor Garage/Moving Sale P W Green Antiques & Estate Sales 
UID:1777049400
STREET-ADDRESS:See website
POSTAL-CODE:98335
LOCALITY:Gig Harbor
REGION:ABBREV=WA
COUNTRY:ABBREV=US;ABBREV=USA:United States
URL;TYPE=Event Listing:https://estatesales.org/estate-sales/wa/gig-harbor/98335/gig-harbor-garagemoving-sale-350556
PRIORITY:1
CLASS:PUBLIC
SEQUENCE:0
STATUS:CONFIRMED
TRANSP:OPAQUE
END:VEVENT
END:VCALENDAR
