BEGIN:VCALENDAR
VERSION:2.0
METHOD:PUBLISH
BEGIN:VEVENT
DTSTART:20260123T140000Z
DTEND:20260123T180000Z
LOCATION:Parkton, MD 21120
TRANSP: OPAQUE
SEQUENCE:0
UID:
DTSTAMP:20260421T110700Z
SUMMARY:10.00 FILL A BAG and 50% OFF Parkton ESTATE SALE
DESCRIPTION:10.00 FILL A BAG and 50% OFF Parkton ESTATE SALE Around the Town Estate Sales, LLC 
UID:1776791220
STREET-ADDRESS:See website
POSTAL-CODE:21120
LOCALITY:Parkton
REGION:ABBREV=MD
COUNTRY:ABBREV=US;ABBREV=USA:United States
URL;TYPE=Event Listing:https://estatesales.org/estate-sales/md/parkton-/21120/1000-fill-a-bag-and-2421770
PRIORITY:1
CLASS:PUBLIC
SEQUENCE:0
STATUS:CONFIRMED
TRANSP:OPAQUE
END:VEVENT
END:VCALENDAR
