BEGIN:VCALENDAR
VERSION:2.0
METHOD:PUBLISH
BEGIN:VEVENT
DTSTART:20250123T150000Z
DTEND:20250127T000000Z
LOCATION:Dallas, TX 75287
TRANSP: OPAQUE
SEQUENCE:0
UID:
DTSTAMP:20260424T035215Z
SUMMARY:Restoration Hardware, Modern furniture, Dr’s Equipment, Vintage China, Jewelry, More, by Annice Antiques
DESCRIPTION:Restoration Hardware, Modern furniture, Dr’s Equipment, Vintage China, Jewelry, More, by Annice Antiques Annice Antiques, Inc. 
UID:1777024335
STREET-ADDRESS:See website
POSTAL-CODE:75287
LOCALITY:Dallas
REGION:ABBREV=TX
COUNTRY:ABBREV=US;ABBREV=USA:United States
URL;TYPE=Event Listing:https://estatesales.org/estate-sales/tx/dallas/75287/restoration-hardware-modern-furniture-drs-2358085
PRIORITY:1
CLASS:PUBLIC
SEQUENCE:0
STATUS:CONFIRMED
TRANSP:OPAQUE
END:VEVENT
END:VCALENDAR
