BEGIN:VCALENDAR
VERSION:2.0
METHOD:PUBLISH
BEGIN:VEVENT
DTSTART:20210123T130000Z
DTEND:20210124T210000Z
LOCATION:Bristol, PA 19007
TRANSP: OPAQUE
SEQUENCE:0
UID:
DTSTAMP:20260422T164748Z
SUMMARY:BRISTOL TREASURE CHEST
DESCRIPTION:BRISTOL TREASURE CHEST Treasure Quest Estate Liquidations & Sales 
UID:1776898068
STREET-ADDRESS:See website
POSTAL-CODE:19007
LOCALITY:Bristol
REGION:ABBREV=PA
COUNTRY:ABBREV=US;ABBREV=USA:United States
URL;TYPE=Event Listing:https://estatesales.org/estate-sales/pa/bristol/19007/bristol-treasure-chest-1859933
PRIORITY:1
CLASS:PUBLIC
SEQUENCE:0
STATUS:CONFIRMED
TRANSP:OPAQUE
END:VEVENT
END:VCALENDAR
