BEGIN:VCALENDAR
VERSION:2.0
METHOD:PUBLISH
BEGIN:VEVENT
DTSTART:20200123T140000Z
DTEND:20200125T200000Z
LOCATION:Gainesville, FL 32605
TRANSP: OPAQUE
SEQUENCE:0
UID:
DTSTAMP:20260420T061014Z
SUMMARY:Nice Sale in Gainesville (lots of items to look at) 
DESCRIPTION:Nice Sale in Gainesville (lots of items to look at)  Justice League Estate Sales 
UID:1776687014
STREET-ADDRESS:See website
POSTAL-CODE:32605
LOCALITY:Gainesville
REGION:ABBREV=FL
COUNTRY:ABBREV=US;ABBREV=USA:United States
URL;TYPE=Event Listing:https://estatesales.org/estate-sales/fl/gainesville/32605/nice-sale-in-gainesville-lots-1754213
PRIORITY:1
CLASS:PUBLIC
SEQUENCE:0
STATUS:CONFIRMED
TRANSP:OPAQUE
END:VEVENT
END:VCALENDAR
