BEGIN:VCALENDAR
VERSION:2.0
METHOD:PUBLISH
BEGIN:VEVENT
DTSTART:20210122T150000Z
DTEND:20210123T210000Z
LOCATION:Carrollton, GA 30117
TRANSP: OPAQUE
SEQUENCE:0
UID:
DTSTAMP:20260419T113744Z
SUMMARY:Carrollton Estate Sale with Vintage Items 
DESCRIPTION:Carrollton Estate Sale with Vintage Items  A Honey Hole Estate Sales 
UID:1776620264
STREET-ADDRESS:See website
POSTAL-CODE:30117
LOCALITY:Carrollton
REGION:ABBREV=GA
COUNTRY:ABBREV=US;ABBREV=USA:United States
URL;TYPE=Event Listing:https://estatesales.org/estate-sales/ga/carrollton/30117/carrollton-estate-sale-with-vintage-1861619
PRIORITY:1
CLASS:PUBLIC
SEQUENCE:0
STATUS:CONFIRMED
TRANSP:OPAQUE
END:VEVENT
END:VCALENDAR
