BEGIN:VCALENDAR
VERSION:2.0
METHOD:PUBLISH
BEGIN:VEVENT
DTSTART:20160122T160000Z
DTEND:20160123T220000Z
LOCATION:West Bend, WI 53095
TRANSP: OPAQUE
SEQUENCE:0
UID:
DTSTAMP:20260420T030216Z
SUMMARY:West Bend Estate Sale-Ground Control to Major Tom!!!!
DESCRIPTION:West Bend Estate Sale-Ground Control to Major Tom!!!! All in the Family Estate Sales 
UID:1776675736
STREET-ADDRESS:See website
POSTAL-CODE:53095
LOCALITY:West Bend
REGION:ABBREV=WI
COUNTRY:ABBREV=US;ABBREV=USA:United States
URL;TYPE=Event Listing:https://estatesales.org/estate-sales/wi/west-bend/53095/west-bend-estate-saleground-control-753015
PRIORITY:1
CLASS:PUBLIC
SEQUENCE:0
STATUS:CONFIRMED
TRANSP:OPAQUE
END:VEVENT
END:VCALENDAR
