BEGIN:VCALENDAR
VERSION:2.0
METHOD:PUBLISH
BEGIN:VEVENT
DTSTART:20230121T170000Z
DTEND:20230122T220000Z
LOCATION:Los Angeles, CA 91364
TRANSP: OPAQUE
SEQUENCE:0
UID:
DTSTAMP:20260419T085356Z
SUMMARY: Discount Sunday Woodland Hills South of the Blvd. Estate Sale
DESCRIPTION: Discount Sunday Woodland Hills South of the Blvd. Estate Sale Hidden Treasure Estate Sales 
UID:1776610436
STREET-ADDRESS:See website
POSTAL-CODE:91364
LOCALITY:Los Angeles
REGION:ABBREV=CA
COUNTRY:ABBREV=US;ABBREV=USA:United States
URL;TYPE=Event Listing:https://estatesales.org/estate-sales/ca/los-angeles/91364/discount-sunday-woodland-hills-south-2136329
PRIORITY:1
CLASS:PUBLIC
SEQUENCE:0
STATUS:CONFIRMED
TRANSP:OPAQUE
END:VEVENT
END:VCALENDAR
