BEGIN:VCALENDAR
VERSION:2.0
METHOD:PUBLISH
BEGIN:VEVENT
DTSTART:20220121T140000Z
DTEND:20220123T180000Z
LOCATION:Washington, DC 20016
TRANSP: OPAQUE
SEQUENCE:0
UID:
DTSTAMP:20260425T175313Z
SUMMARY:Fine DC Estate Sale (Jan 21-23)
DESCRIPTION:Fine DC Estate Sale (Jan 21-23) Four Sales Ltd 
UID:1777161193
STREET-ADDRESS:See website
POSTAL-CODE:20016
LOCALITY:Washington
REGION:ABBREV=DC
COUNTRY:ABBREV=US;ABBREV=USA:United States
URL;TYPE=Event Listing:https://estatesales.org/estate-sales/dc/washington/20016/fine-dc-estate-sale-jan-1996885
PRIORITY:1
CLASS:PUBLIC
SEQUENCE:0
STATUS:CONFIRMED
TRANSP:OPAQUE
END:VEVENT
END:VCALENDAR
