BEGIN:VCALENDAR
VERSION:2.0
METHOD:PUBLISH
BEGIN:VEVENT
DTSTART:20220121T170000Z
DTEND:20220122T220000Z
LOCATION:San Bernardino, CA 92411
TRANSP: OPAQUE
SEQUENCE:0
UID:
DTSTAMP:20260425T045050Z
SUMMARY:Pickers sale, San Bernardino
DESCRIPTION:Pickers sale, San Bernardino Next Step Estate Sales 
UID:1777114250
STREET-ADDRESS:See website
POSTAL-CODE:92411
LOCALITY:San Bernardino
REGION:ABBREV=CA
COUNTRY:ABBREV=US;ABBREV=USA:United States
URL;TYPE=Event Listing:https://estatesales.org/estate-sales/ca/san-bernardino/92411/pickers-sale-san-bernardino-1999835
PRIORITY:1
CLASS:PUBLIC
SEQUENCE:0
STATUS:CONFIRMED
TRANSP:OPAQUE
END:VEVENT
END:VCALENDAR
