BEGIN:VCALENDAR
VERSION:2.0
METHOD:PUBLISH
BEGIN:VEVENT
DTSTART:20200121T160000Z
DTEND:20200121T220000Z
LOCATION:Downey, CA 90242
TRANSP: OPAQUE
SEQUENCE:0
UID:
DTSTAMP:20260420T162657Z
SUMMARY:ONE DAY Downey Estate Sale: Vintage Collectibles, Antique Clocks, Tools, etc!
DESCRIPTION:ONE DAY Downey Estate Sale: Vintage Collectibles, Antique Clocks, Tools, etc! Advanced Estate Sale Services 
UID:1776724017
STREET-ADDRESS:See website
POSTAL-CODE:90242
LOCALITY:Downey
REGION:ABBREV=CA
COUNTRY:ABBREV=US;ABBREV=USA:United States
URL;TYPE=Event Listing:https://estatesales.org/estate-sales/ca/downey/90242/one-day-downey-estate-sale-1758485
PRIORITY:1
CLASS:PUBLIC
SEQUENCE:0
STATUS:CONFIRMED
TRANSP:OPAQUE
END:VEVENT
END:VCALENDAR
