BEGIN:VCALENDAR
VERSION:2.0
METHOD:PUBLISH
BEGIN:VEVENT
DTSTART:20240120T160000Z
DTEND:20240121T210000Z
LOCATION:Glenview, IL 60026
TRANSP: OPAQUE
SEQUENCE:0
UID:
DTSTAMP:20260425T162711Z
SUMMARY:Great Finds at Indian Ridge in Glenview
DESCRIPTION:Great Finds at Indian Ridge in Glenview Meadow Lane Estate Sales 
UID:1777156031
STREET-ADDRESS:See website
POSTAL-CODE:60026
LOCALITY:Glenview
REGION:ABBREV=IL
COUNTRY:ABBREV=US;ABBREV=USA:United States
URL;TYPE=Event Listing:https://estatesales.org/estate-sales/il/glenview/60026/great-finds-at-indian-ridge-2269071
PRIORITY:1
CLASS:PUBLIC
SEQUENCE:0
STATUS:CONFIRMED
TRANSP:OPAQUE
END:VEVENT
END:VCALENDAR
