BEGIN:VCALENDAR
VERSION:2.0
METHOD:PUBLISH
BEGIN:VEVENT
DTSTART:20230120T170000Z
DTEND:20230122T210000Z
LOCATION:Stanardsville, VA 22973
TRANSP: OPAQUE
SEQUENCE:0
UID:
DTSTAMP:20260423T203436Z
SUMMARY:Marvelous Estate Sale
DESCRIPTION:Marvelous Estate Sale Estate Sales and Services LLC 
UID:1776998076
STREET-ADDRESS:See website
POSTAL-CODE:22973
LOCALITY:Stanardsville
REGION:ABBREV=VA
COUNTRY:ABBREV=US;ABBREV=USA:United States
URL;TYPE=Event Listing:https://estatesales.org/estate-sales/va/stanardsville/22973/marvelous-estate-sale-2138871
PRIORITY:1
CLASS:PUBLIC
SEQUENCE:0
STATUS:CONFIRMED
TRANSP:OPAQUE
END:VEVENT
END:VCALENDAR
