BEGIN:VCALENDAR
VERSION:2.0
METHOD:PUBLISH
BEGIN:VEVENT
DTSTART:20180120T150000Z
DTEND:20180123T220000Z
LOCATION:Stewartsville, NJ 08886
TRANSP: OPAQUE
SEQUENCE:0
UID:
DTSTAMP:20260420T220324Z
SUMMARY:Contents of 2 homes vintage to modern furniture, decor toys & collectibles
DESCRIPTION:Contents of 2 homes vintage to modern furniture, decor toys & collectibles Stewartsville Barn Sale 
UID:1776744204
STREET-ADDRESS:See website
POSTAL-CODE:08886
LOCALITY:Stewartsville
REGION:ABBREV=NJ
COUNTRY:ABBREV=US;ABBREV=USA:United States
URL;TYPE=Event Listing:https://estatesales.org/estate-sales/nj/stewartsville/08886/contents-of-2-homes-vintage-1472267
PRIORITY:1
CLASS:PUBLIC
SEQUENCE:0
STATUS:CONFIRMED
TRANSP:OPAQUE
END:VEVENT
END:VCALENDAR
