BEGIN:VCALENDAR
VERSION:2.0
METHOD:PUBLISH
BEGIN:VEVENT
DTSTART:20180120T143000Z
DTEND:20180120T220000Z
LOCATION:Wood Ridge, NJ 07075
TRANSP: OPAQUE
SEQUENCE:0
UID:
DTSTAMP:20260421T124152Z
SUMMARY:Treasures of Yesterday in Wood Ridge
DESCRIPTION:Treasures of Yesterday in Wood Ridge Treasures of Yesterday Estate Sales 
UID:1776796912
STREET-ADDRESS:See website
POSTAL-CODE:07075
LOCALITY:Wood Ridge
REGION:ABBREV=NJ
COUNTRY:ABBREV=US;ABBREV=USA:United States
URL;TYPE=Event Listing:https://estatesales.org/estate-sales/nj/wood-ridge/07075/treasures-of-yesterday-in-wood-1466809
PRIORITY:1
CLASS:PUBLIC
SEQUENCE:0
STATUS:CONFIRMED
TRANSP:OPAQUE
END:VEVENT
END:VCALENDAR
