BEGIN:VCALENDAR
VERSION:2.0
METHOD:PUBLISH
BEGIN:VEVENT
DTSTART:20170120T150000Z
DTEND:20170121T190000Z
LOCATION:Inver Grove Heights, MN 55076
TRANSP: OPAQUE
SEQUENCE:0
UID:
DTSTAMP:20260419T201431Z
SUMMARY:Art, Framing, Mid-Cent Mod Furn., in Inver Grove Heights
DESCRIPTION:Art, Framing, Mid-Cent Mod Furn., in Inver Grove Heights Caring Transitions Twin Cities East 
UID:1776651271
STREET-ADDRESS:See website
POSTAL-CODE:55076
LOCALITY:Inver Grove Heights
REGION:ABBREV=MN
COUNTRY:ABBREV=US;ABBREV=USA:United States
URL;TYPE=Event Listing:https://estatesales.org/estate-sales/mn/inver-grove-heights/55076/art-framing-midcent-mod-furn-1065225
PRIORITY:1
CLASS:PUBLIC
SEQUENCE:0
STATUS:CONFIRMED
TRANSP:OPAQUE
END:VEVENT
END:VCALENDAR
