BEGIN:VCALENDAR
VERSION:2.0
METHOD:PUBLISH
BEGIN:VEVENT
DTSTART:20240119T170000Z
DTEND:20240120T230000Z
LOCATION:Riverside, CA 92507
TRANSP: OPAQUE
SEQUENCE:0
UID:
DTSTAMP:20260423T062235Z
SUMMARY:2 DAY ONLY - BLAST FROM THE PAST SALE
DESCRIPTION:2 DAY ONLY - BLAST FROM THE PAST SALE All Treasures Estate Sales 
UID:1776946955
STREET-ADDRESS:See website
POSTAL-CODE:92507
LOCALITY:Riverside
REGION:ABBREV=CA
COUNTRY:ABBREV=US;ABBREV=USA:United States
URL;TYPE=Event Listing:https://estatesales.org/estate-sales/ca/riverside/92507/2-day-only-blast-from-2273629
PRIORITY:1
CLASS:PUBLIC
SEQUENCE:0
STATUS:CONFIRMED
TRANSP:OPAQUE
END:VEVENT
END:VCALENDAR
