BEGIN:VCALENDAR
VERSION:2.0
METHOD:PUBLISH
BEGIN:VEVENT
DTSTART:20240119T160000Z
DTEND:20240121T220000Z
LOCATION:Riverside, CA 92503
TRANSP: OPAQUE
SEQUENCE:0
UID:
DTSTAMP:20260419T223744Z
SUMMARY:Beautiful High end decorators’ home, filled with like-new items and name brands like Ethan Allen, Pottery Barn, Crate & Barrel and Ashly Furniture! Gormet Kitchen and much more!
DESCRIPTION:Beautiful High end decorators’ home, filled with like-new items and name brands like Ethan Allen, Pottery Barn, Crate & Barrel and Ashly Furniture! Gormet Kitchen and much more! Estate Sales by Dee 
UID:1776659864
STREET-ADDRESS:See website
POSTAL-CODE:92503
LOCALITY:Riverside
REGION:ABBREV=CA
COUNTRY:ABBREV=US;ABBREV=USA:United States
URL;TYPE=Event Listing:https://estatesales.org/estate-sales/ca/riverside/92503/beautiful-high-end-decorators-home-2273159
PRIORITY:1
CLASS:PUBLIC
SEQUENCE:0
STATUS:CONFIRMED
TRANSP:OPAQUE
END:VEVENT
END:VCALENDAR
