BEGIN:VCALENDAR
VERSION:2.0
METHOD:PUBLISH
BEGIN:VEVENT
DTSTART:20250118T130000Z
DTEND:20250119T200000Z
LOCATION:Finleyville, PA 15332
TRANSP: OPAQUE
SEQUENCE:0
UID:
DTSTAMP:20260423T235740Z
SUMMARY:"PHASE 3" UNBELIEVABLE 2 DAY SALE IN FINLEYVILLE!!
DESCRIPTION:"PHASE 3" UNBELIEVABLE 2 DAY SALE IN FINLEYVILLE!! Murdoch Estate Liquidation 
UID:1777010260
STREET-ADDRESS:See website
POSTAL-CODE:15332
LOCALITY:Finleyville
REGION:ABBREV=PA
COUNTRY:ABBREV=US;ABBREV=USA:United States
URL;TYPE=Event Listing:https://estatesales.org/estate-sales/pa/finleyville/15332/phase-3-unbelievable-2-day-2356318
PRIORITY:1
CLASS:PUBLIC
SEQUENCE:0
STATUS:CONFIRMED
TRANSP:OPAQUE
END:VEVENT
END:VCALENDAR
