BEGIN:VCALENDAR
VERSION:2.0
METHOD:PUBLISH
BEGIN:VEVENT
DTSTART:20200118T170000Z
DTEND:20200119T230000Z
LOCATION:Encino, CA 91436
TRANSP: OPAQUE
SEQUENCE:0
UID:
DTSTAMP:20260420T021116Z
SUMMARY: Celebrity time capsule: Vintage Hollywood, Art, Unique and Eclectic items, mid century, Asian, more!
DESCRIPTION: Celebrity time capsule: Vintage Hollywood, Art, Unique and Eclectic items, mid century, Asian, more! Triumphant Estate Sales of Los Angeles 
UID:1776672676
STREET-ADDRESS:See website
POSTAL-CODE:91436
LOCALITY:Encino
REGION:ABBREV=CA
COUNTRY:ABBREV=US;ABBREV=USA:United States
URL;TYPE=Event Listing:https://estatesales.org/estate-sales/ca/encino/91436/celebrity-time-capsule-vintage-hollywood-1756547
PRIORITY:1
CLASS:PUBLIC
SEQUENCE:0
STATUS:CONFIRMED
TRANSP:OPAQUE
END:VEVENT
END:VCALENDAR
