BEGIN:VCALENDAR
VERSION:2.0
METHOD:PUBLISH
BEGIN:VEVENT
DTSTART:20260117T160000Z
DTEND:20260117T210000Z
LOCATION:Norman, OK 73072
TRANSP: OPAQUE
SEQUENCE:0
UID:
DTSTAMP:20260425T113009Z
SUMMARY:Norman Estate Sale
DESCRIPTION:Norman Estate Sale Vincent Estate Sales 
UID:1777138209
STREET-ADDRESS:See website
POSTAL-CODE:73072
LOCALITY:Norman
REGION:ABBREV=OK
COUNTRY:ABBREV=US;ABBREV=USA:United States
URL;TYPE=Event Listing:https://estatesales.org/estate-sales/ok/norman/73072/norman-estate-sale-2420913
PRIORITY:1
CLASS:PUBLIC
SEQUENCE:0
STATUS:CONFIRMED
TRANSP:OPAQUE
END:VEVENT
END:VCALENDAR
