BEGIN:VCALENDAR
VERSION:2.0
METHOD:PUBLISH
BEGIN:VEVENT
DTSTART:20250117T190000Z
DTEND:20250119T220000Z
LOCATION:Oklahoma City, OK 73160
TRANSP: OPAQUE
SEQUENCE:0
UID:
DTSTAMP:20260425T162222Z
SUMMARY:Hidden Gems in Moore
DESCRIPTION:Hidden Gems in Moore Master Key Estate Sales, LLP 
UID:1777155742
STREET-ADDRESS:See website
POSTAL-CODE:73160
LOCALITY:Oklahoma City
REGION:ABBREV=OK
COUNTRY:ABBREV=US;ABBREV=USA:United States
URL;TYPE=Event Listing:https://estatesales.org/estate-sales/ok/oklahoma-city/73160/hidden-gems-in-moore-2355741
PRIORITY:1
CLASS:PUBLIC
SEQUENCE:0
STATUS:CONFIRMED
TRANSP:OPAQUE
END:VEVENT
END:VCALENDAR
