BEGIN:VCALENDAR
VERSION:2.0
METHOD:PUBLISH
BEGIN:VEVENT
DTSTART:20250117T140000Z
DTEND:20250119T200000Z
LOCATION:Tuxedo Park, NY 10987
TRANSP: OPAQUE
SEQUENCE:0
UID:
DTSTAMP:20260423T142330Z
SUMMARY:Town & Country Estate Sales
DESCRIPTION:Town & Country Estate Sales Town & Country Estate & Moving Sales 
UID:1776975810
STREET-ADDRESS:See website
POSTAL-CODE:10987
LOCALITY:Tuxedo Park
REGION:ABBREV=NY
COUNTRY:ABBREV=US;ABBREV=USA:United States
URL;TYPE=Event Listing:https://estatesales.org/estate-sales/ny/tuxedo-park/10987/town-country-estate-sales-2356085
PRIORITY:1
CLASS:PUBLIC
SEQUENCE:0
STATUS:CONFIRMED
TRANSP:OPAQUE
END:VEVENT
END:VCALENDAR
