BEGIN:VCALENDAR
VERSION:2.0
METHOD:PUBLISH
BEGIN:VEVENT
DTSTART:20250117T170000Z
DTEND:20250119T220000Z
LOCATION:Riverside, CA 92504
TRANSP: OPAQUE
SEQUENCE:0
UID:
DTSTAMP:20260423T062235Z
SUMMARY:RIVERSIDE SHABBY CHIC & VICTORIAN STYLE DECOR ESTATE SALE
DESCRIPTION:RIVERSIDE SHABBY CHIC & VICTORIAN STYLE DECOR ESTATE SALE All Treasures Estate Sales 
UID:1776946955
STREET-ADDRESS:See website
POSTAL-CODE:92504
LOCALITY:Riverside
REGION:ABBREV=CA
COUNTRY:ABBREV=US;ABBREV=USA:United States
URL;TYPE=Event Listing:https://estatesales.org/estate-sales/ca/riverside/92504/riverside-shabby-chic-victorian-style-2357511
PRIORITY:1
CLASS:PUBLIC
SEQUENCE:0
STATUS:CONFIRMED
TRANSP:OPAQUE
END:VEVENT
END:VCALENDAR
