BEGIN:VCALENDAR
VERSION:2.0
METHOD:PUBLISH
BEGIN:VEVENT
DTSTART:20250117T150000Z
DTEND:20250118T220000Z
LOCATION:Hilbert, WI 54129
TRANSP: OPAQUE
SEQUENCE:0
UID:
DTSTAMP:20260424T213714Z
SUMMARY:Stockbridge, ESTATE SALE BY THE " Estate Sale Squad". Friday January 17, and Saturday January 18, 2025
DESCRIPTION:Stockbridge, ESTATE SALE BY THE " Estate Sale Squad". Friday January 17, and Saturday January 18, 2025 Estate Sale Squad LLC 
UID:1777088234
STREET-ADDRESS:See website
POSTAL-CODE:54129
LOCALITY:Hilbert
REGION:ABBREV=WI
COUNTRY:ABBREV=US;ABBREV=USA:United States
URL;TYPE=Event Listing:https://estatesales.org/estate-sales/wi/hilbert/54129/stockbridge-estate-sale-by-the-2357391
PRIORITY:1
CLASS:PUBLIC
SEQUENCE:0
STATUS:CONFIRMED
TRANSP:OPAQUE
END:VEVENT
END:VCALENDAR
