BEGIN:VCALENDAR
VERSION:2.0
METHOD:PUBLISH
BEGIN:VEVENT
DTSTART:20250117T170000Z
DTEND:20250118T210000Z
LOCATION:Bakersfield, CA 93312
TRANSP: OPAQUE
SEQUENCE:0
UID:
DTSTAMP:20260421T115744Z
SUMMARY:Like Shopping in a World Market! Brought to you by Senior Move Manager & More!
DESCRIPTION:Like Shopping in a World Market! Brought to you by Senior Move Manager & More! Senior Move Manager & More! 
UID:1776794264
STREET-ADDRESS:See website
POSTAL-CODE:93312
LOCALITY:Bakersfield
REGION:ABBREV=CA
COUNTRY:ABBREV=US;ABBREV=USA:United States
URL;TYPE=Event Listing:https://estatesales.org/estate-sales/ca/bakersfield/93312/like-shopping-in-a-world-2357291
PRIORITY:1
CLASS:PUBLIC
SEQUENCE:0
STATUS:CONFIRMED
TRANSP:OPAQUE
END:VEVENT
END:VCALENDAR
