BEGIN:VCALENDAR
VERSION:2.0
METHOD:PUBLISH
BEGIN:VEVENT
DTSTART:20250117T160000Z
DTEND:20250118T200000Z
LOCATION:Glendale, AZ 85308
TRANSP: OPAQUE
SEQUENCE:0
UID:
DTSTAMP:20260419T195046Z
SUMMARY:Glendale Estate Sale
DESCRIPTION:Glendale Estate Sale Arizona Finds 
UID:1776649846
STREET-ADDRESS:See website
POSTAL-CODE:85308
LOCALITY:Glendale
REGION:ABBREV=AZ
COUNTRY:ABBREV=US;ABBREV=USA:United States
URL;TYPE=Event Listing:https://estatesales.org/estate-sales/az/glendale/85308/glendale-estate-sale-2356705
PRIORITY:1
CLASS:PUBLIC
SEQUENCE:0
STATUS:CONFIRMED
TRANSP:OPAQUE
END:VEVENT
END:VCALENDAR
