BEGIN:VCALENDAR
VERSION:2.0
METHOD:PUBLISH
BEGIN:VEVENT
DTSTART:20260116T150000Z
DTEND:20260117T200000Z
LOCATION:Oakton, VA 22124
TRANSP: OPAQUE
SEQUENCE:0
UID:
DTSTAMP:20260423T141917Z
SUMMARY:Guardian Angels in Oakton
DESCRIPTION:Guardian Angels in Oakton Guardian Angels Estate Sales 
UID:1776975557
STREET-ADDRESS:See website
POSTAL-CODE:22124
LOCALITY:Oakton
REGION:ABBREV=VA
COUNTRY:ABBREV=US;ABBREV=USA:United States
URL;TYPE=Event Listing:https://estatesales.org/estate-sales/va/oakton/22124/guardian-angels-in-oakton-2418238
PRIORITY:1
CLASS:PUBLIC
SEQUENCE:0
STATUS:CONFIRMED
TRANSP:OPAQUE
END:VEVENT
END:VCALENDAR
