BEGIN:VCALENDAR
VERSION:2.0
METHOD:PUBLISH
BEGIN:VEVENT
DTSTART:20260116T140000Z
DTEND:20260118T180000Z
LOCATION:Largo, FL 33774
TRANSP: OPAQUE
SEQUENCE:0
UID:
DTSTAMP:20260423T094745Z
SUMMARY:BABY BOOMERS LARGO ESTATE SALE
DESCRIPTION:BABY BOOMERS LARGO ESTATE SALE Baby Boomers Estate Sales 
UID:1776959265
STREET-ADDRESS:See website
POSTAL-CODE:33774
LOCALITY:Largo
REGION:ABBREV=FL
COUNTRY:ABBREV=US;ABBREV=USA:United States
URL;TYPE=Event Listing:https://estatesales.org/estate-sales/fl/largo/33774/baby-boomers-largo-estate-sale-2420420
PRIORITY:1
CLASS:PUBLIC
SEQUENCE:0
STATUS:CONFIRMED
TRANSP:OPAQUE
END:VEVENT
END:VCALENDAR
