BEGIN:VCALENDAR
VERSION:2.0
METHOD:PUBLISH
BEGIN:VEVENT
DTSTART:20260116T150000Z
DTEND:20260117T200000Z
LOCATION:Mesa, AZ 85205
TRANSP: OPAQUE
SEQUENCE:0
UID:
DTSTAMP:20260423T071811Z
SUMMARY:50-90% OFF (SEE DESCRIPTION) Mainstays & More Mesa Estate Sale by Grasons
DESCRIPTION:50-90% OFF (SEE DESCRIPTION) Mainstays & More Mesa Estate Sale by Grasons Grasons of Scottsdale, AZ 
UID:1776950291
STREET-ADDRESS:See website
POSTAL-CODE:85205
LOCALITY:Mesa
REGION:ABBREV=AZ
COUNTRY:ABBREV=US;ABBREV=USA:United States
URL;TYPE=Event Listing:https://estatesales.org/estate-sales/az/mesa/85205/mainstays-more-mesa-estate-sale-2420722
PRIORITY:1
CLASS:PUBLIC
SEQUENCE:0
STATUS:CONFIRMED
TRANSP:OPAQUE
END:VEVENT
END:VCALENDAR
