BEGIN:VCALENDAR
VERSION:2.0
METHOD:PUBLISH
BEGIN:VEVENT
DTSTART:20250116T170000Z
DTEND:20250118T200000Z
LOCATION:Watertown, WI 53098
TRANSP: OPAQUE
SEQUENCE:0
UID:
DTSTAMP:20260425T173911Z
SUMMARY:***LAST DAY - 30%-50% OFF MOST ITEMS PRICED OVER $1.00****** - Big & Wonderful Watertown Farmhouse & Barn Sale!
DESCRIPTION:***LAST DAY - 30%-50% OFF MOST ITEMS PRICED OVER $1.00****** - Big & Wonderful Watertown Farmhouse & Barn Sale! Today's Lifestyle Solutions, LLC 
UID:1777160351
STREET-ADDRESS:See website
POSTAL-CODE:53098
LOCALITY:Watertown
REGION:ABBREV=WI
COUNTRY:ABBREV=US;ABBREV=USA:United States
URL;TYPE=Event Listing:https://estatesales.org/estate-sales/wi/watertown/53098/20-off-most-items-priced-2357144
PRIORITY:1
CLASS:PUBLIC
SEQUENCE:0
STATUS:CONFIRMED
TRANSP:OPAQUE
END:VEVENT
END:VCALENDAR
