BEGIN:VCALENDAR
VERSION:2.0
METHOD:PUBLISH
BEGIN:VEVENT
DTSTART:20260115T150000Z
DTEND:20260117T210000Z
LOCATION:Columbus, GA 31909
TRANSP: OPAQUE
SEQUENCE:0
UID:
DTSTAMP:20260419T124136Z
SUMMARY:Northside Columbus Estate Sale- 30% Off Starts Today!
DESCRIPTION:Northside Columbus Estate Sale- 30% Off Starts Today! Grasons of Columbus, GA 
UID:1776624096
STREET-ADDRESS:See website
POSTAL-CODE:31909
LOCALITY:Columbus
REGION:ABBREV=GA
COUNTRY:ABBREV=US;ABBREV=USA:United States
URL;TYPE=Event Listing:https://estatesales.org/estate-sales/ga/columbus/31909/northside-columbus-estate-sale-2416063
PRIORITY:1
CLASS:PUBLIC
SEQUENCE:0
STATUS:CONFIRMED
TRANSP:OPAQUE
END:VEVENT
END:VCALENDAR
