BEGIN:VCALENDAR
VERSION:2.0
METHOD:PUBLISH
BEGIN:VEVENT
DTSTART:20260115T170000Z
DTEND:20260117T220000Z
LOCATION:Wasco, CA 93280
TRANSP: OPAQUE
SEQUENCE:0
UID:
DTSTAMP:20260422T052513Z
SUMMARY:Wasco estate sale
DESCRIPTION:Wasco estate sale Indianoaksestatesales 
UID:1776857113
STREET-ADDRESS:See website
POSTAL-CODE:93280
LOCALITY:Wasco
REGION:ABBREV=CA
COUNTRY:ABBREV=US;ABBREV=USA:United States
URL;TYPE=Event Listing:https://estatesales.org/estate-sales/ca/wasco/93280/wasco-estate-sale-2421065
PRIORITY:1
CLASS:PUBLIC
SEQUENCE:0
STATUS:CONFIRMED
TRANSP:OPAQUE
END:VEVENT
END:VCALENDAR
