BEGIN:VCALENDAR
VERSION:2.0
METHOD:PUBLISH
BEGIN:VEVENT
DTSTART:20210115T200000Z
DTEND:20210116T213000Z
LOCATION:By appointment only.
TRANSP: OPAQUE
SEQUENCE:0
UID:
DTSTAMP:20260420T021540Z
SUMMARY:Art and High-end Furniture and more- All must Go By Monday-  Appointments Only
DESCRIPTION:Art and High-end Furniture and more- All must Go By Monday-  Appointments Only Triumphant Estate Sales of Los Angeles 
UID:1776672940
STREET-ADDRESS:See website
POSTAL-CODE:91364
LOCALITY:Woodland Hills
REGION:ABBREV=CA
COUNTRY:ABBREV=US;ABBREV=USA:United States
URL;TYPE=Event Listing:https://estatesales.org/estate-sales/ca/woodland-hills/91364/art-and-highend-furniture-and-1861895
PRIORITY:1
CLASS:PUBLIC
SEQUENCE:0
STATUS:CONFIRMED
TRANSP:OPAQUE
END:VEVENT
END:VCALENDAR
