BEGIN:VCALENDAR
VERSION:2.0
METHOD:PUBLISH
BEGIN:VEVENT
DTSTART:20230114T170000Z
DTEND:20230115T220000Z
LOCATION:Los Angeles, CA 90049
TRANSP: OPAQUE
SEQUENCE:0
UID:
DTSTAMP:20260420T044047Z
SUMMARY: Discount Sunday Amazing Bel Air Estate Sale
DESCRIPTION: Discount Sunday Amazing Bel Air Estate Sale Hidden Treasure Estate Sales 
UID:1776681647
STREET-ADDRESS:See website
POSTAL-CODE:90049
LOCALITY:Los Angeles
REGION:ABBREV=CA
COUNTRY:ABBREV=US;ABBREV=USA:United States
URL;TYPE=Event Listing:https://estatesales.org/estate-sales/ca/los-angeles/90049/discount-sunday-amazing-bel-air-2134749
PRIORITY:1
CLASS:PUBLIC
SEQUENCE:0
STATUS:CONFIRMED
TRANSP:OPAQUE
END:VEVENT
END:VCALENDAR
