BEGIN:VCALENDAR
VERSION:2.0
METHOD:PUBLISH
BEGIN:VEVENT
DTSTART:20210114T150000Z
DTEND:20210116T210000Z
LOCATION:Mabank, TX 75156
TRANSP: OPAQUE
SEQUENCE:0
UID:
DTSTAMP:20260424T215850Z
SUMMARY:Lakeside Estate Sales CGL, LLC Enchanted Oaks at Cedar Creek Lake
DESCRIPTION:Lakeside Estate Sales CGL, LLC Enchanted Oaks at Cedar Creek Lake Lakeside Estate Sales, CGL LLC. 
UID:1777089530
STREET-ADDRESS:See website
POSTAL-CODE:75156
LOCALITY:Mabank
REGION:ABBREV=TX
COUNTRY:ABBREV=US;ABBREV=USA:United States
URL;TYPE=Event Listing:https://estatesales.org/estate-sales/tx/mabank/75156/lakeside-estate-sales-cgl-llc-1860889
PRIORITY:1
CLASS:PUBLIC
SEQUENCE:0
STATUS:CONFIRMED
TRANSP:OPAQUE
END:VEVENT
END:VCALENDAR
