BEGIN:VCALENDAR
VERSION:2.0
METHOD:PUBLISH
BEGIN:VEVENT
DTSTART:20170114T160000Z
DTEND:20170115T230000Z
LOCATION:Port Orchard, WA 98367
TRANSP: OPAQUE
SEQUENCE:0
UID:
DTSTAMP:20260424T133528Z
SUMMARY:PW Green Antiques - Port Orchard Estate Sale
DESCRIPTION:PW Green Antiques - Port Orchard Estate Sale P W Green Antiques & Estate Sales 
UID:1777059328
STREET-ADDRESS:See website
POSTAL-CODE:98367
LOCALITY:Port Orchard
REGION:ABBREV=WA
COUNTRY:ABBREV=US;ABBREV=USA:United States
URL;TYPE=Event Listing:https://estatesales.org/estate-sales/wa/port-orchard/98367/pw-green-antiques-port-orchard-1060141
PRIORITY:1
CLASS:PUBLIC
SEQUENCE:0
STATUS:CONFIRMED
TRANSP:OPAQUE
END:VEVENT
END:VCALENDAR
