BEGIN:VCALENDAR
VERSION:2.0
METHOD:PUBLISH
BEGIN:VEVENT
DTSTART:20140114T160000Z
DTEND:20140115T230000Z
LOCATION:Los Angeles, CA 90016
TRANSP: OPAQUE
SEQUENCE:0
UID:
DTSTAMP:20260420T222146Z
SUMMARY:Massive ANTIQUE STORE Contents AUCTION by Retro Robin & Orrills
DESCRIPTION:Massive ANTIQUE STORE Contents AUCTION by Retro Robin & Orrills Retro Robin Estate Sales, LLC 
UID:1776745306
STREET-ADDRESS:See website
POSTAL-CODE:90016
LOCALITY:Los Angeles
REGION:ABBREV=CA
COUNTRY:ABBREV=US;ABBREV=USA:United States
URL;TYPE=Event Listing:https://estatesales.org/estate-sales/ca/los-angeles/90016/massive-antique-store-contents-auction-348523
PRIORITY:1
CLASS:PUBLIC
SEQUENCE:0
STATUS:CONFIRMED
TRANSP:OPAQUE
END:VEVENT
END:VCALENDAR
