BEGIN:VCALENDAR
VERSION:2.0
METHOD:PUBLISH
BEGIN:VEVENT
DTSTART:20240113T170000Z
DTEND:20240114T000000Z
LOCATION:Encino, CA 91436
TRANSP: OPAQUE
SEQUENCE:0
UID:
DTSTAMP:20260420T044103Z
SUMMARY:ENCINO ESTATE SALE (Saturday 1 day sale)
DESCRIPTION:ENCINO ESTATE SALE (Saturday 1 day sale) Hidden Treasure Estate Sales 
UID:1776681663
STREET-ADDRESS:See website
POSTAL-CODE:91436
LOCALITY:Encino
REGION:ABBREV=CA
COUNTRY:ABBREV=US;ABBREV=USA:United States
URL;TYPE=Event Listing:https://estatesales.org/estate-sales/ca/encino/91436/encino-estate-sale-saturday-1-2270909
PRIORITY:1
CLASS:PUBLIC
SEQUENCE:0
STATUS:CONFIRMED
TRANSP:OPAQUE
END:VEVENT
END:VCALENDAR
