BEGIN:VCALENDAR
VERSION:2.0
METHOD:PUBLISH
BEGIN:VEVENT
DTSTART:20170113T160000Z
DTEND:20170114T223000Z
LOCATION:Aurora, CO 80012
TRANSP: OPAQUE
SEQUENCE:0
UID:
DTSTAMP:20260420T204526Z
SUMMARY:Downsizing in Aurora
DESCRIPTION:Downsizing in Aurora Caring Transitions South Denver Suburbs 
UID:1776739526
STREET-ADDRESS:See website
POSTAL-CODE:80012
LOCALITY:Aurora
REGION:ABBREV=CO
COUNTRY:ABBREV=US;ABBREV=USA:United States
URL;TYPE=Event Listing:https://estatesales.org/estate-sales/co/aurora/80012/downsizing-in-aurora-1062429
PRIORITY:1
CLASS:PUBLIC
SEQUENCE:0
STATUS:CONFIRMED
TRANSP:OPAQUE
END:VEVENT
END:VCALENDAR
