BEGIN:VCALENDAR
VERSION:2.0
METHOD:PUBLISH
BEGIN:VEVENT
DTSTART:20170113T140000Z
DTEND:20170113T220000Z
LOCATION:Commerce Township, MI 48382
TRANSP: OPAQUE
SEQUENCE:0
UID:
DTSTAMP:20260421T140150Z
SUMMARY:Charming Commerce Twp Sale by R and S
DESCRIPTION:Charming Commerce Twp Sale by R and S Another Estate Sale By R and S 
UID:1776801710
STREET-ADDRESS:See website
POSTAL-CODE:48382
LOCALITY:Commerce Township
REGION:ABBREV=MI
COUNTRY:ABBREV=US;ABBREV=USA:United States
URL;TYPE=Event Listing:https://estatesales.org/estate-sales/mi/commerce-township/48382/charming-commerce-twp-sale-by-1013615
PRIORITY:1
CLASS:PUBLIC
SEQUENCE:0
STATUS:CONFIRMED
TRANSP:OPAQUE
END:VEVENT
END:VCALENDAR
