BEGIN:VCALENDAR
VERSION:2.0
METHOD:PUBLISH
BEGIN:VEVENT
DTSTART:20240112T170000Z
DTEND:20240113T220000Z
LOCATION:Fresno, CA 93727
TRANSP: OPAQUE
SEQUENCE:0
UID:
DTSTAMP:20260422T045945Z
SUMMARY:HUGE Fresno Estate Sale! Furn, household, jewelry, books & MORE!
DESCRIPTION:HUGE Fresno Estate Sale! Furn, household, jewelry, books & MORE! Basements and Beyond 
UID:1776855585
STREET-ADDRESS:See website
POSTAL-CODE:93727
LOCALITY:Fresno
REGION:ABBREV=CA
COUNTRY:ABBREV=US;ABBREV=USA:United States
URL;TYPE=Event Listing:https://estatesales.org/estate-sales/ca/fresno/93727/huge-fresno-estate-sale-furn-2271537
PRIORITY:1
CLASS:PUBLIC
SEQUENCE:0
STATUS:CONFIRMED
TRANSP:OPAQUE
END:VEVENT
END:VCALENDAR
