BEGIN:VCALENDAR
VERSION:2.0
METHOD:PUBLISH
BEGIN:VEVENT
DTSTART:20230112T130000Z
DTEND:20230114T190000Z
LOCATION:The Villages, FL 32159
TRANSP: OPAQUE
SEQUENCE:0
UID:
DTSTAMP:20260421T122914Z
SUMMARY:Moving sale
DESCRIPTION:Moving sale Estatesales By Andy & KathyLLC 
UID:1776796154
STREET-ADDRESS:See website
POSTAL-CODE:32159
LOCALITY:The Villages
REGION:ABBREV=FL
COUNTRY:ABBREV=US;ABBREV=USA:United States
URL;TYPE=Event Listing:https://estatesales.org/estate-sales/fl/the-villages/32159/moving-sale-2135033
PRIORITY:1
CLASS:PUBLIC
SEQUENCE:0
STATUS:CONFIRMED
TRANSP:OPAQUE
END:VEVENT
END:VCALENDAR
