BEGIN:VCALENDAR
VERSION:2.0
METHOD:PUBLISH
BEGIN:VEVENT
DTSTART:20180112T150000Z
DTEND:20180113T190000Z
LOCATION:Saint Paul, MN 55110
TRANSP: OPAQUE
SEQUENCE:0
UID:
DTSTAMP:20260419T200815Z
SUMMARY:Whimsy in White Bear Lake by Caring Transitions Twin Cities East
DESCRIPTION:Whimsy in White Bear Lake by Caring Transitions Twin Cities East Caring Transitions Twin Cities East 
UID:1776650895
STREET-ADDRESS:See website
POSTAL-CODE:55110
LOCALITY:Saint Paul
REGION:ABBREV=MN
COUNTRY:ABBREV=US;ABBREV=USA:United States
URL;TYPE=Event Listing:https://estatesales.org/estate-sales/mn/white-bear-lake/55110/whimsy-in-white-bear-lake-1469231
PRIORITY:1
CLASS:PUBLIC
SEQUENCE:0
STATUS:CONFIRMED
TRANSP:OPAQUE
END:VEVENT
END:VCALENDAR
