BEGIN:VCALENDAR
VERSION:2.0
METHOD:PUBLISH
BEGIN:VEVENT
DTSTART:20190111T150000Z
DTEND:20190112T190000Z
LOCATION:Olathe, KS 66061
TRANSP: OPAQUE
SEQUENCE:0
UID:
DTSTAMP:20260419T070253Z
SUMMARY:Caring Transitions KC in Olathe Antiques and Collectibles 
DESCRIPTION:Caring Transitions KC in Olathe Antiques and Collectibles  Caring Transitions Kansas City 
UID:1776603773
STREET-ADDRESS:See website
POSTAL-CODE:66061
LOCALITY:Olathe
REGION:ABBREV=KS
COUNTRY:ABBREV=US;ABBREV=USA:United States
URL;TYPE=Event Listing:https://estatesales.org/estate-sales/ks/olathe-/66061/caring-transitions-kc-in-olathe-1611489
PRIORITY:1
CLASS:PUBLIC
SEQUENCE:0
STATUS:CONFIRMED
TRANSP:OPAQUE
END:VEVENT
END:VCALENDAR
