BEGIN:VCALENDAR
VERSION:2.0
METHOD:PUBLISH
BEGIN:VEVENT
DTSTART:20140111T180000Z
DTEND:20140112T020000Z
LOCATION:Rancho Cucamonga, CA 91730
TRANSP: OPAQUE
SEQUENCE:0
UID:
DTSTAMP:20260425T044942Z
SUMMARY:Huge Inland Empire Estate Auction! Antique store closing! Sat Jan.11th @10 am / Preview @ 8 am in Rancho Cucamonga Antiques, Vintage, Collectables, Industrial Galore!
DESCRIPTION:Huge Inland Empire Estate Auction! Antique store closing! Sat Jan.11th @10 am / Preview @ 8 am in Rancho Cucamonga Antiques, Vintage, Collectables, Industrial Galore! Juanita's JUNK in the TRUNK - Estate Sales & Liquidation Sales 
UID:1777114182
STREET-ADDRESS:See website
POSTAL-CODE:91730
LOCALITY:Rancho Cucamonga
REGION:ABBREV=CA
COUNTRY:ABBREV=US;ABBREV=USA:United States
URL;TYPE=Event Listing:https://estatesales.org/estate-sales/ca/rancho-cucamonga/91730/huge-inland-empire-estate-auction-348351
PRIORITY:1
CLASS:PUBLIC
SEQUENCE:0
STATUS:CONFIRMED
TRANSP:OPAQUE
END:VEVENT
END:VCALENDAR
