BEGIN:VCALENDAR
VERSION:2.0
METHOD:PUBLISH
BEGIN:VEVENT
DTSTART:20140111T130000Z
DTEND:20140112T210000Z
LOCATION:Raleigh, NC 27605
TRANSP: OPAQUE
SEQUENCE:0
UID:
DTSTAMP:20260419T082518Z
SUMMARY:ESTATE TAG SALES
DESCRIPTION:ESTATE TAG SALES Steve Minor Estate Liquidations and Appraisals 
UID:1776608718
STREET-ADDRESS:See website
POSTAL-CODE:27605
LOCALITY:Raleigh
REGION:ABBREV=NC
COUNTRY:ABBREV=US;ABBREV=USA:United States
URL;TYPE=Event Listing:https://estatesales.org/estate-sales/nc/raleigh/27605/estate-tag-sales-348469
PRIORITY:1
CLASS:PUBLIC
SEQUENCE:0
STATUS:CONFIRMED
TRANSP:OPAQUE
END:VEVENT
END:VCALENDAR
